BEGIN:VCALENDAR
VERSION:2.0
PRODID:-//Kultur in Röbel - ECPv6.15.13//NONSGML v1.0//EN
CALSCALE:GREGORIAN
METHOD:PUBLISH
X-WR-CALNAME:Kultur in Röbel
X-ORIGINAL-URL:https://kulturinroebel.de
X-WR-CALDESC:Veranstaltungen für Kultur in Röbel
REFRESH-INTERVAL;VALUE=DURATION:PT1H
X-Robots-Tag:noindex
X-PUBLISHED-TTL:PT1H
BEGIN:VTIMEZONE
TZID:Europe/Berlin
BEGIN:DAYLIGHT
TZOFFSETFROM:+0100
TZOFFSETTO:+0200
TZNAME:CEST
DTSTART:20210328T010000
END:DAYLIGHT
BEGIN:STANDARD
TZOFFSETFROM:+0200
TZOFFSETTO:+0100
TZNAME:CET
DTSTART:20211031T010000
END:STANDARD
BEGIN:DAYLIGHT
TZOFFSETFROM:+0100
TZOFFSETTO:+0200
TZNAME:CEST
DTSTART:20220327T010000
END:DAYLIGHT
BEGIN:STANDARD
TZOFFSETFROM:+0200
TZOFFSETTO:+0100
TZNAME:CET
DTSTART:20221030T010000
END:STANDARD
BEGIN:DAYLIGHT
TZOFFSETFROM:+0100
TZOFFSETTO:+0200
TZNAME:CEST
DTSTART:20230326T010000
END:DAYLIGHT
BEGIN:STANDARD
TZOFFSETFROM:+0200
TZOFFSETTO:+0100
TZNAME:CET
DTSTART:20231029T010000
END:STANDARD
END:VTIMEZONE
BEGIN:VEVENT
DTSTART;TZID=Europe/Berlin:20221120T100000
DTEND;TZID=Europe/Berlin:20221120T160000
DTSTAMP:20260423T212310
CREATED:20221105T093605Z
LAST-MODIFIED:20221109T121353Z
UID:10001871-1668938400-1668960000@kulturinroebel.de
SUMMARY:Scott Thoe: Malerei der Lofoten
DESCRIPTION:Was soziales und künstlerisches Engagement bewegen kann.\nBesuch in Mecklenburg von den Lofoten. Friedensstifter und Maler Scott Thoe zeigt uns seine Malerei und Projekte auf der Tenne der Scheune Bollewick vom 8. bis 20. November 2022. Sein Vortrag „Schläft die Welt?“ regt uns und die Gemeinschaft an\, sich zu engagieren für das\, was nicht vergessen werden darf: Frieden zuerst.\nErleben Sie diesen beeindruckenden Friedensstifter und Künstler persönlich. Am 11. November 2022 spricht er um 18:30 Uhr in Bollewick über seine Friedensprojekte\, seine Malerei der Lofoten\, seine Kunst im Weltraum auf der ISS und über seine sozialen Projekte. \nDie Ausstellung Malerei der Lofoten – gestaltet von Lutz Kroh – lädt bis 20. November zu einem interaktiven Besuch ein. Neben der Malerei sind auch die Friedensprojekte von Scott Thoe zu sehen.\nExklusive Führungen sind am Sonnabend den 12.11. und Sonntag\, den 13.11. ab 14 Uhr möglich. \nAusstellung und Vortrag: Scheune Bollewick\, Dudel 1\, 17207 Bollewick\nKontakt & Führungen: galerie radius\, Straße des Friedens 26\, 17207 Röbel\, Telefon 0151-17439834
URL:https://kulturinroebel.de/termin/scott-thoe-malerei-der-lofoten/2022-11-20/
LOCATION:Scheune Bollewick\, Dudel 1\, 17207 Bollewick\, Scheune Bollewick\, Dudel 1\, Bollewick\, 17207
CATEGORIES:radius kultur
ATTACH;FMTTYPE=image/png:https://kulturinroebel.de/wp-content/uploads/2022/11/Scott-Thoe.png
END:VEVENT
BEGIN:VEVENT
DTSTART;TZID=Europe/Berlin:20221119T100000
DTEND;TZID=Europe/Berlin:20221119T160000
DTSTAMP:20260423T212310
CREATED:20221105T093605Z
LAST-MODIFIED:20221109T121353Z
UID:10001870-1668852000-1668873600@kulturinroebel.de
SUMMARY:Scott Thoe: Malerei der Lofoten
DESCRIPTION:Was soziales und künstlerisches Engagement bewegen kann.\nBesuch in Mecklenburg von den Lofoten. Friedensstifter und Maler Scott Thoe zeigt uns seine Malerei und Projekte auf der Tenne der Scheune Bollewick vom 8. bis 20. November 2022. Sein Vortrag „Schläft die Welt?“ regt uns und die Gemeinschaft an\, sich zu engagieren für das\, was nicht vergessen werden darf: Frieden zuerst.\nErleben Sie diesen beeindruckenden Friedensstifter und Künstler persönlich. Am 11. November 2022 spricht er um 18:30 Uhr in Bollewick über seine Friedensprojekte\, seine Malerei der Lofoten\, seine Kunst im Weltraum auf der ISS und über seine sozialen Projekte. \nDie Ausstellung Malerei der Lofoten – gestaltet von Lutz Kroh – lädt bis 20. November zu einem interaktiven Besuch ein. Neben der Malerei sind auch die Friedensprojekte von Scott Thoe zu sehen.\nExklusive Führungen sind am Sonnabend den 12.11. und Sonntag\, den 13.11. ab 14 Uhr möglich. \nAusstellung und Vortrag: Scheune Bollewick\, Dudel 1\, 17207 Bollewick\nKontakt & Führungen: galerie radius\, Straße des Friedens 26\, 17207 Röbel\, Telefon 0151-17439834
URL:https://kulturinroebel.de/termin/scott-thoe-malerei-der-lofoten/2022-11-19/
LOCATION:Scheune Bollewick\, Dudel 1\, 17207 Bollewick\, Scheune Bollewick\, Dudel 1\, Bollewick\, 17207
CATEGORIES:radius kultur
ATTACH;FMTTYPE=image/png:https://kulturinroebel.de/wp-content/uploads/2022/11/Scott-Thoe.png
END:VEVENT
BEGIN:VEVENT
DTSTART;TZID=Europe/Berlin:20221118T100000
DTEND;TZID=Europe/Berlin:20221118T160000
DTSTAMP:20260423T212310
CREATED:20221105T093605Z
LAST-MODIFIED:20221109T121353Z
UID:10001869-1668765600-1668787200@kulturinroebel.de
SUMMARY:Scott Thoe: Malerei der Lofoten
DESCRIPTION:Was soziales und künstlerisches Engagement bewegen kann.\nBesuch in Mecklenburg von den Lofoten. Friedensstifter und Maler Scott Thoe zeigt uns seine Malerei und Projekte auf der Tenne der Scheune Bollewick vom 8. bis 20. November 2022. Sein Vortrag „Schläft die Welt?“ regt uns und die Gemeinschaft an\, sich zu engagieren für das\, was nicht vergessen werden darf: Frieden zuerst.\nErleben Sie diesen beeindruckenden Friedensstifter und Künstler persönlich. Am 11. November 2022 spricht er um 18:30 Uhr in Bollewick über seine Friedensprojekte\, seine Malerei der Lofoten\, seine Kunst im Weltraum auf der ISS und über seine sozialen Projekte. \nDie Ausstellung Malerei der Lofoten – gestaltet von Lutz Kroh – lädt bis 20. November zu einem interaktiven Besuch ein. Neben der Malerei sind auch die Friedensprojekte von Scott Thoe zu sehen.\nExklusive Führungen sind am Sonnabend den 12.11. und Sonntag\, den 13.11. ab 14 Uhr möglich. \nAusstellung und Vortrag: Scheune Bollewick\, Dudel 1\, 17207 Bollewick\nKontakt & Führungen: galerie radius\, Straße des Friedens 26\, 17207 Röbel\, Telefon 0151-17439834
URL:https://kulturinroebel.de/termin/scott-thoe-malerei-der-lofoten/2022-11-18/
LOCATION:Scheune Bollewick\, Dudel 1\, 17207 Bollewick\, Scheune Bollewick\, Dudel 1\, Bollewick\, 17207
CATEGORIES:radius kultur
ATTACH;FMTTYPE=image/png:https://kulturinroebel.de/wp-content/uploads/2022/11/Scott-Thoe.png
END:VEVENT
BEGIN:VEVENT
DTSTART;TZID=Europe/Berlin:20221117T100000
DTEND;TZID=Europe/Berlin:20221117T160000
DTSTAMP:20260423T212310
CREATED:20221105T093605Z
LAST-MODIFIED:20221109T121353Z
UID:10001868-1668679200-1668700800@kulturinroebel.de
SUMMARY:Scott Thoe: Malerei der Lofoten
DESCRIPTION:Was soziales und künstlerisches Engagement bewegen kann.\nBesuch in Mecklenburg von den Lofoten. Friedensstifter und Maler Scott Thoe zeigt uns seine Malerei und Projekte auf der Tenne der Scheune Bollewick vom 8. bis 20. November 2022. Sein Vortrag „Schläft die Welt?“ regt uns und die Gemeinschaft an\, sich zu engagieren für das\, was nicht vergessen werden darf: Frieden zuerst.\nErleben Sie diesen beeindruckenden Friedensstifter und Künstler persönlich. Am 11. November 2022 spricht er um 18:30 Uhr in Bollewick über seine Friedensprojekte\, seine Malerei der Lofoten\, seine Kunst im Weltraum auf der ISS und über seine sozialen Projekte. \nDie Ausstellung Malerei der Lofoten – gestaltet von Lutz Kroh – lädt bis 20. November zu einem interaktiven Besuch ein. Neben der Malerei sind auch die Friedensprojekte von Scott Thoe zu sehen.\nExklusive Führungen sind am Sonnabend den 12.11. und Sonntag\, den 13.11. ab 14 Uhr möglich. \nAusstellung und Vortrag: Scheune Bollewick\, Dudel 1\, 17207 Bollewick\nKontakt & Führungen: galerie radius\, Straße des Friedens 26\, 17207 Röbel\, Telefon 0151-17439834
URL:https://kulturinroebel.de/termin/scott-thoe-malerei-der-lofoten/2022-11-17/
LOCATION:Scheune Bollewick\, Dudel 1\, 17207 Bollewick\, Scheune Bollewick\, Dudel 1\, Bollewick\, 17207
CATEGORIES:radius kultur
ATTACH;FMTTYPE=image/png:https://kulturinroebel.de/wp-content/uploads/2022/11/Scott-Thoe.png
END:VEVENT
BEGIN:VEVENT
DTSTART;TZID=Europe/Berlin:20221116T100000
DTEND;TZID=Europe/Berlin:20221116T160000
DTSTAMP:20260423T212310
CREATED:20221105T093605Z
LAST-MODIFIED:20221109T121353Z
UID:10001867-1668592800-1668614400@kulturinroebel.de
SUMMARY:Scott Thoe: Malerei der Lofoten
DESCRIPTION:Was soziales und künstlerisches Engagement bewegen kann.\nBesuch in Mecklenburg von den Lofoten. Friedensstifter und Maler Scott Thoe zeigt uns seine Malerei und Projekte auf der Tenne der Scheune Bollewick vom 8. bis 20. November 2022. Sein Vortrag „Schläft die Welt?“ regt uns und die Gemeinschaft an\, sich zu engagieren für das\, was nicht vergessen werden darf: Frieden zuerst.\nErleben Sie diesen beeindruckenden Friedensstifter und Künstler persönlich. Am 11. November 2022 spricht er um 18:30 Uhr in Bollewick über seine Friedensprojekte\, seine Malerei der Lofoten\, seine Kunst im Weltraum auf der ISS und über seine sozialen Projekte. \nDie Ausstellung Malerei der Lofoten – gestaltet von Lutz Kroh – lädt bis 20. November zu einem interaktiven Besuch ein. Neben der Malerei sind auch die Friedensprojekte von Scott Thoe zu sehen.\nExklusive Führungen sind am Sonnabend den 12.11. und Sonntag\, den 13.11. ab 14 Uhr möglich. \nAusstellung und Vortrag: Scheune Bollewick\, Dudel 1\, 17207 Bollewick\nKontakt & Führungen: galerie radius\, Straße des Friedens 26\, 17207 Röbel\, Telefon 0151-17439834
URL:https://kulturinroebel.de/termin/scott-thoe-malerei-der-lofoten/2022-11-16/
LOCATION:Scheune Bollewick\, Dudel 1\, 17207 Bollewick\, Scheune Bollewick\, Dudel 1\, Bollewick\, 17207
CATEGORIES:radius kultur
ATTACH;FMTTYPE=image/png:https://kulturinroebel.de/wp-content/uploads/2022/11/Scott-Thoe.png
END:VEVENT
BEGIN:VEVENT
DTSTART;TZID=Europe/Berlin:20221115T100000
DTEND;TZID=Europe/Berlin:20221115T160000
DTSTAMP:20260423T212310
CREATED:20221105T093605Z
LAST-MODIFIED:20221109T121353Z
UID:10001866-1668506400-1668528000@kulturinroebel.de
SUMMARY:Scott Thoe: Malerei der Lofoten
DESCRIPTION:Was soziales und künstlerisches Engagement bewegen kann.\nBesuch in Mecklenburg von den Lofoten. Friedensstifter und Maler Scott Thoe zeigt uns seine Malerei und Projekte auf der Tenne der Scheune Bollewick vom 8. bis 20. November 2022. Sein Vortrag „Schläft die Welt?“ regt uns und die Gemeinschaft an\, sich zu engagieren für das\, was nicht vergessen werden darf: Frieden zuerst.\nErleben Sie diesen beeindruckenden Friedensstifter und Künstler persönlich. Am 11. November 2022 spricht er um 18:30 Uhr in Bollewick über seine Friedensprojekte\, seine Malerei der Lofoten\, seine Kunst im Weltraum auf der ISS und über seine sozialen Projekte. \nDie Ausstellung Malerei der Lofoten – gestaltet von Lutz Kroh – lädt bis 20. November zu einem interaktiven Besuch ein. Neben der Malerei sind auch die Friedensprojekte von Scott Thoe zu sehen.\nExklusive Führungen sind am Sonnabend den 12.11. und Sonntag\, den 13.11. ab 14 Uhr möglich. \nAusstellung und Vortrag: Scheune Bollewick\, Dudel 1\, 17207 Bollewick\nKontakt & Führungen: galerie radius\, Straße des Friedens 26\, 17207 Röbel\, Telefon 0151-17439834
URL:https://kulturinroebel.de/termin/scott-thoe-malerei-der-lofoten/2022-11-15/
LOCATION:Scheune Bollewick\, Dudel 1\, 17207 Bollewick\, Scheune Bollewick\, Dudel 1\, Bollewick\, 17207
CATEGORIES:radius kultur
ATTACH;FMTTYPE=image/png:https://kulturinroebel.de/wp-content/uploads/2022/11/Scott-Thoe.png
END:VEVENT
BEGIN:VEVENT
DTSTART;TZID=Europe/Berlin:20221114T100000
DTEND;TZID=Europe/Berlin:20221114T160000
DTSTAMP:20260423T212310
CREATED:20221105T093605Z
LAST-MODIFIED:20221109T121353Z
UID:10001865-1668420000-1668441600@kulturinroebel.de
SUMMARY:Scott Thoe: Malerei der Lofoten
DESCRIPTION:Was soziales und künstlerisches Engagement bewegen kann.\nBesuch in Mecklenburg von den Lofoten. Friedensstifter und Maler Scott Thoe zeigt uns seine Malerei und Projekte auf der Tenne der Scheune Bollewick vom 8. bis 20. November 2022. Sein Vortrag „Schläft die Welt?“ regt uns und die Gemeinschaft an\, sich zu engagieren für das\, was nicht vergessen werden darf: Frieden zuerst.\nErleben Sie diesen beeindruckenden Friedensstifter und Künstler persönlich. Am 11. November 2022 spricht er um 18:30 Uhr in Bollewick über seine Friedensprojekte\, seine Malerei der Lofoten\, seine Kunst im Weltraum auf der ISS und über seine sozialen Projekte. \nDie Ausstellung Malerei der Lofoten – gestaltet von Lutz Kroh – lädt bis 20. November zu einem interaktiven Besuch ein. Neben der Malerei sind auch die Friedensprojekte von Scott Thoe zu sehen.\nExklusive Führungen sind am Sonnabend den 12.11. und Sonntag\, den 13.11. ab 14 Uhr möglich. \nAusstellung und Vortrag: Scheune Bollewick\, Dudel 1\, 17207 Bollewick\nKontakt & Führungen: galerie radius\, Straße des Friedens 26\, 17207 Röbel\, Telefon 0151-17439834
URL:https://kulturinroebel.de/termin/scott-thoe-malerei-der-lofoten/2022-11-14/
LOCATION:Scheune Bollewick\, Dudel 1\, 17207 Bollewick\, Scheune Bollewick\, Dudel 1\, Bollewick\, 17207
CATEGORIES:radius kultur
ATTACH;FMTTYPE=image/png:https://kulturinroebel.de/wp-content/uploads/2022/11/Scott-Thoe.png
END:VEVENT
BEGIN:VEVENT
DTSTART;TZID=Europe/Berlin:20221113T100000
DTEND;TZID=Europe/Berlin:20221113T160000
DTSTAMP:20260423T212310
CREATED:20221105T093605Z
LAST-MODIFIED:20221109T121353Z
UID:10001864-1668333600-1668355200@kulturinroebel.de
SUMMARY:Scott Thoe: Malerei der Lofoten
DESCRIPTION:Was soziales und künstlerisches Engagement bewegen kann.\nBesuch in Mecklenburg von den Lofoten. Friedensstifter und Maler Scott Thoe zeigt uns seine Malerei und Projekte auf der Tenne der Scheune Bollewick vom 8. bis 20. November 2022. Sein Vortrag „Schläft die Welt?“ regt uns und die Gemeinschaft an\, sich zu engagieren für das\, was nicht vergessen werden darf: Frieden zuerst.\nErleben Sie diesen beeindruckenden Friedensstifter und Künstler persönlich. Am 11. November 2022 spricht er um 18:30 Uhr in Bollewick über seine Friedensprojekte\, seine Malerei der Lofoten\, seine Kunst im Weltraum auf der ISS und über seine sozialen Projekte. \nDie Ausstellung Malerei der Lofoten – gestaltet von Lutz Kroh – lädt bis 20. November zu einem interaktiven Besuch ein. Neben der Malerei sind auch die Friedensprojekte von Scott Thoe zu sehen.\nExklusive Führungen sind am Sonnabend den 12.11. und Sonntag\, den 13.11. ab 14 Uhr möglich. \nAusstellung und Vortrag: Scheune Bollewick\, Dudel 1\, 17207 Bollewick\nKontakt & Führungen: galerie radius\, Straße des Friedens 26\, 17207 Röbel\, Telefon 0151-17439834
URL:https://kulturinroebel.de/termin/scott-thoe-malerei-der-lofoten/2022-11-13/
LOCATION:Scheune Bollewick\, Dudel 1\, 17207 Bollewick\, Scheune Bollewick\, Dudel 1\, Bollewick\, 17207
CATEGORIES:radius kultur
ATTACH;FMTTYPE=image/png:https://kulturinroebel.de/wp-content/uploads/2022/11/Scott-Thoe.png
END:VEVENT
BEGIN:VEVENT
DTSTART;TZID=Europe/Berlin:20221112T100000
DTEND;TZID=Europe/Berlin:20221112T160000
DTSTAMP:20260423T212310
CREATED:20221105T093605Z
LAST-MODIFIED:20221109T121353Z
UID:10001863-1668247200-1668268800@kulturinroebel.de
SUMMARY:Scott Thoe: Malerei der Lofoten
DESCRIPTION:Was soziales und künstlerisches Engagement bewegen kann.\nBesuch in Mecklenburg von den Lofoten. Friedensstifter und Maler Scott Thoe zeigt uns seine Malerei und Projekte auf der Tenne der Scheune Bollewick vom 8. bis 20. November 2022. Sein Vortrag „Schläft die Welt?“ regt uns und die Gemeinschaft an\, sich zu engagieren für das\, was nicht vergessen werden darf: Frieden zuerst.\nErleben Sie diesen beeindruckenden Friedensstifter und Künstler persönlich. Am 11. November 2022 spricht er um 18:30 Uhr in Bollewick über seine Friedensprojekte\, seine Malerei der Lofoten\, seine Kunst im Weltraum auf der ISS und über seine sozialen Projekte. \nDie Ausstellung Malerei der Lofoten – gestaltet von Lutz Kroh – lädt bis 20. November zu einem interaktiven Besuch ein. Neben der Malerei sind auch die Friedensprojekte von Scott Thoe zu sehen.\nExklusive Führungen sind am Sonnabend den 12.11. und Sonntag\, den 13.11. ab 14 Uhr möglich. \nAusstellung und Vortrag: Scheune Bollewick\, Dudel 1\, 17207 Bollewick\nKontakt & Führungen: galerie radius\, Straße des Friedens 26\, 17207 Röbel\, Telefon 0151-17439834
URL:https://kulturinroebel.de/termin/scott-thoe-malerei-der-lofoten/2022-11-12/
LOCATION:Scheune Bollewick\, Dudel 1\, 17207 Bollewick\, Scheune Bollewick\, Dudel 1\, Bollewick\, 17207
CATEGORIES:radius kultur
ATTACH;FMTTYPE=image/png:https://kulturinroebel.de/wp-content/uploads/2022/11/Scott-Thoe.png
END:VEVENT
BEGIN:VEVENT
DTSTART;TZID=Europe/Berlin:20221111T183000
DTEND;TZID=Europe/Berlin:20221111T200000
DTSTAMP:20260423T212310
CREATED:20221105T095157Z
LAST-MODIFIED:20221109T071521Z
UID:10001872-1668191400-1668196800@kulturinroebel.de
SUMMARY:Schläft die Welt? Vortrag von Scott Thoe - Friedensstifter und Maler von den Lofoten
DESCRIPTION:Scott Thoe spricht jeden Einzelnen von uns und die Gemeinschaft an\, sich zu engagieren für das\, was nicht vergessen werden darf: Frieden zuerst.\nErleben Sie diesen beeindruckenden Friedensstifter und Künstler von den Lofoten persönlich. Er erzählt über seine Friedensprojekte\, seine Malerei der Lofoten\, seine Kunst im Weltraum auf der ISS und über seine sozialen Projekte.\nEs moderiert Anthony Sylvester.
URL:https://kulturinroebel.de/termin/schlaeft-die-welt-vortrag-von-scott-thoe-friedensstifter-und-maler-von-den-lofoten/
LOCATION:Scheune Bollewick\, Dudel 1\, 17207 Bollewick\, Scheune Bollewick\, Dudel 1\, Bollewick\, 17207
CATEGORIES:radius kultur
ATTACH;FMTTYPE=image/png:https://kulturinroebel.de/wp-content/uploads/2022/11/Schlaeft-die-Welt.png
END:VEVENT
BEGIN:VEVENT
DTSTART;TZID=Europe/Berlin:20221111T100000
DTEND;TZID=Europe/Berlin:20221111T160000
DTSTAMP:20260423T212310
CREATED:20221105T093605Z
LAST-MODIFIED:20221109T121353Z
UID:10001862-1668160800-1668182400@kulturinroebel.de
SUMMARY:Scott Thoe: Malerei der Lofoten
DESCRIPTION:Was soziales und künstlerisches Engagement bewegen kann.\nBesuch in Mecklenburg von den Lofoten. Friedensstifter und Maler Scott Thoe zeigt uns seine Malerei und Projekte auf der Tenne der Scheune Bollewick vom 8. bis 20. November 2022. Sein Vortrag „Schläft die Welt?“ regt uns und die Gemeinschaft an\, sich zu engagieren für das\, was nicht vergessen werden darf: Frieden zuerst.\nErleben Sie diesen beeindruckenden Friedensstifter und Künstler persönlich. Am 11. November 2022 spricht er um 18:30 Uhr in Bollewick über seine Friedensprojekte\, seine Malerei der Lofoten\, seine Kunst im Weltraum auf der ISS und über seine sozialen Projekte. \nDie Ausstellung Malerei der Lofoten – gestaltet von Lutz Kroh – lädt bis 20. November zu einem interaktiven Besuch ein. Neben der Malerei sind auch die Friedensprojekte von Scott Thoe zu sehen.\nExklusive Führungen sind am Sonnabend den 12.11. und Sonntag\, den 13.11. ab 14 Uhr möglich. \nAusstellung und Vortrag: Scheune Bollewick\, Dudel 1\, 17207 Bollewick\nKontakt & Führungen: galerie radius\, Straße des Friedens 26\, 17207 Röbel\, Telefon 0151-17439834
URL:https://kulturinroebel.de/termin/scott-thoe-malerei-der-lofoten/2022-11-11/
LOCATION:Scheune Bollewick\, Dudel 1\, 17207 Bollewick\, Scheune Bollewick\, Dudel 1\, Bollewick\, 17207
CATEGORIES:radius kultur
ATTACH;FMTTYPE=image/png:https://kulturinroebel.de/wp-content/uploads/2022/11/Scott-Thoe.png
END:VEVENT
BEGIN:VEVENT
DTSTART;TZID=Europe/Berlin:20221110T100000
DTEND;TZID=Europe/Berlin:20221110T160000
DTSTAMP:20260423T212310
CREATED:20221105T093605Z
LAST-MODIFIED:20221109T121353Z
UID:10001861-1668074400-1668096000@kulturinroebel.de
SUMMARY:Scott Thoe: Malerei der Lofoten
DESCRIPTION:Was soziales und künstlerisches Engagement bewegen kann.\nBesuch in Mecklenburg von den Lofoten. Friedensstifter und Maler Scott Thoe zeigt uns seine Malerei und Projekte auf der Tenne der Scheune Bollewick vom 8. bis 20. November 2022. Sein Vortrag „Schläft die Welt?“ regt uns und die Gemeinschaft an\, sich zu engagieren für das\, was nicht vergessen werden darf: Frieden zuerst.\nErleben Sie diesen beeindruckenden Friedensstifter und Künstler persönlich. Am 11. November 2022 spricht er um 18:30 Uhr in Bollewick über seine Friedensprojekte\, seine Malerei der Lofoten\, seine Kunst im Weltraum auf der ISS und über seine sozialen Projekte. \nDie Ausstellung Malerei der Lofoten – gestaltet von Lutz Kroh – lädt bis 20. November zu einem interaktiven Besuch ein. Neben der Malerei sind auch die Friedensprojekte von Scott Thoe zu sehen.\nExklusive Führungen sind am Sonnabend den 12.11. und Sonntag\, den 13.11. ab 14 Uhr möglich. \nAusstellung und Vortrag: Scheune Bollewick\, Dudel 1\, 17207 Bollewick\nKontakt & Führungen: galerie radius\, Straße des Friedens 26\, 17207 Röbel\, Telefon 0151-17439834
URL:https://kulturinroebel.de/termin/scott-thoe-malerei-der-lofoten/2022-11-10/
LOCATION:Scheune Bollewick\, Dudel 1\, 17207 Bollewick\, Scheune Bollewick\, Dudel 1\, Bollewick\, 17207
CATEGORIES:radius kultur
ATTACH;FMTTYPE=image/png:https://kulturinroebel.de/wp-content/uploads/2022/11/Scott-Thoe.png
END:VEVENT
BEGIN:VEVENT
DTSTART;TZID=Europe/Berlin:20221109T100000
DTEND;TZID=Europe/Berlin:20221109T160000
DTSTAMP:20260423T212310
CREATED:20221105T093605Z
LAST-MODIFIED:20221109T121353Z
UID:10001860-1667988000-1668009600@kulturinroebel.de
SUMMARY:Scott Thoe: Malerei der Lofoten
DESCRIPTION:Was soziales und künstlerisches Engagement bewegen kann.\nBesuch in Mecklenburg von den Lofoten. Friedensstifter und Maler Scott Thoe zeigt uns seine Malerei und Projekte auf der Tenne der Scheune Bollewick vom 8. bis 20. November 2022. Sein Vortrag „Schläft die Welt?“ regt uns und die Gemeinschaft an\, sich zu engagieren für das\, was nicht vergessen werden darf: Frieden zuerst.\nErleben Sie diesen beeindruckenden Friedensstifter und Künstler persönlich. Am 11. November 2022 spricht er um 18:30 Uhr in Bollewick über seine Friedensprojekte\, seine Malerei der Lofoten\, seine Kunst im Weltraum auf der ISS und über seine sozialen Projekte. \nDie Ausstellung Malerei der Lofoten – gestaltet von Lutz Kroh – lädt bis 20. November zu einem interaktiven Besuch ein. Neben der Malerei sind auch die Friedensprojekte von Scott Thoe zu sehen.\nExklusive Führungen sind am Sonnabend den 12.11. und Sonntag\, den 13.11. ab 14 Uhr möglich. \nAusstellung und Vortrag: Scheune Bollewick\, Dudel 1\, 17207 Bollewick\nKontakt & Führungen: galerie radius\, Straße des Friedens 26\, 17207 Röbel\, Telefon 0151-17439834
URL:https://kulturinroebel.de/termin/scott-thoe-malerei-der-lofoten/2022-11-09/
LOCATION:Scheune Bollewick\, Dudel 1\, 17207 Bollewick\, Scheune Bollewick\, Dudel 1\, Bollewick\, 17207
CATEGORIES:radius kultur
ATTACH;FMTTYPE=image/png:https://kulturinroebel.de/wp-content/uploads/2022/11/Scott-Thoe.png
END:VEVENT
BEGIN:VEVENT
DTSTART;TZID=Europe/Berlin:20221108T100000
DTEND;TZID=Europe/Berlin:20221108T160000
DTSTAMP:20260423T212310
CREATED:20221105T093605Z
LAST-MODIFIED:20221109T121353Z
UID:10001859-1667901600-1667923200@kulturinroebel.de
SUMMARY:Scott Thoe: Malerei der Lofoten
DESCRIPTION:Was soziales und künstlerisches Engagement bewegen kann.\nBesuch in Mecklenburg von den Lofoten. Friedensstifter und Maler Scott Thoe zeigt uns seine Malerei und Projekte auf der Tenne der Scheune Bollewick vom 8. bis 20. November 2022. Sein Vortrag „Schläft die Welt?“ regt uns und die Gemeinschaft an\, sich zu engagieren für das\, was nicht vergessen werden darf: Frieden zuerst.\nErleben Sie diesen beeindruckenden Friedensstifter und Künstler persönlich. Am 11. November 2022 spricht er um 18:30 Uhr in Bollewick über seine Friedensprojekte\, seine Malerei der Lofoten\, seine Kunst im Weltraum auf der ISS und über seine sozialen Projekte. \nDie Ausstellung Malerei der Lofoten – gestaltet von Lutz Kroh – lädt bis 20. November zu einem interaktiven Besuch ein. Neben der Malerei sind auch die Friedensprojekte von Scott Thoe zu sehen.\nExklusive Führungen sind am Sonnabend den 12.11. und Sonntag\, den 13.11. ab 14 Uhr möglich. \nAusstellung und Vortrag: Scheune Bollewick\, Dudel 1\, 17207 Bollewick\nKontakt & Führungen: galerie radius\, Straße des Friedens 26\, 17207 Röbel\, Telefon 0151-17439834
URL:https://kulturinroebel.de/termin/scott-thoe-malerei-der-lofoten/2022-11-08/
LOCATION:Scheune Bollewick\, Dudel 1\, 17207 Bollewick\, Scheune Bollewick\, Dudel 1\, Bollewick\, 17207
CATEGORIES:radius kultur
ATTACH;FMTTYPE=image/png:https://kulturinroebel.de/wp-content/uploads/2022/11/Scott-Thoe.png
END:VEVENT
END:VCALENDAR