BEGIN:VCALENDAR
VERSION:2.0
PRODID:-//Kultur in Röbel - ECPv6.15.13//NONSGML v1.0//EN
CALSCALE:GREGORIAN
METHOD:PUBLISH
X-WR-CALNAME:Kultur in Röbel
X-ORIGINAL-URL:https://kulturinroebel.de
X-WR-CALDESC:Veranstaltungen für Kultur in Röbel
REFRESH-INTERVAL;VALUE=DURATION:PT1H
X-Robots-Tag:noindex
X-PUBLISHED-TTL:PT1H
BEGIN:VTIMEZONE
TZID:Europe/Berlin
BEGIN:DAYLIGHT
TZOFFSETFROM:+0100
TZOFFSETTO:+0200
TZNAME:CEST
DTSTART:20250330T010000
END:DAYLIGHT
BEGIN:STANDARD
TZOFFSETFROM:+0200
TZOFFSETTO:+0100
TZNAME:CET
DTSTART:20251026T010000
END:STANDARD
BEGIN:DAYLIGHT
TZOFFSETFROM:+0100
TZOFFSETTO:+0200
TZNAME:CEST
DTSTART:20260329T010000
END:DAYLIGHT
BEGIN:STANDARD
TZOFFSETFROM:+0200
TZOFFSETTO:+0100
TZNAME:CET
DTSTART:20261025T010000
END:STANDARD
BEGIN:DAYLIGHT
TZOFFSETFROM:+0100
TZOFFSETTO:+0200
TZNAME:CEST
DTSTART:20270328T010000
END:DAYLIGHT
BEGIN:STANDARD
TZOFFSETFROM:+0200
TZOFFSETTO:+0100
TZNAME:CET
DTSTART:20271031T010000
END:STANDARD
END:VTIMEZONE
BEGIN:VEVENT
DTSTART;TZID=Europe/Berlin:20260629T110000
DTEND;TZID=Europe/Berlin:20260629T170000
DTSTAMP:20260423T195050
CREATED:20260207T132817Z
LAST-MODIFIED:20260419T215751Z
UID:10005415-1782730800-1782752400@kulturinroebel.de
SUMMARY:Perspektivwechsel
DESCRIPTION:Schwarzweiß Fotografie entstanden im Januar 2026 im Kurs der Leica Akademie Deutschland: Mecklenburgische Kulturlandschaft\n—\nab 2. Juni Mühlengeschten\n—\nWerner Schinko: Allerlei Viecherei\n—\nHans Blossey: Vogelschau Müritz \nAusstellung auf vier Etagen kuratiert von Lutz Kroh
URL:https://kulturinroebel.de/termin/perspektivwechsel/2026-06-29/
LOCATION:Mühle Röbel\, Mühlenberg 4\, Röbel / Müritz\, Mecklenburg-Vorpommern\, 17207\, Deutschland
CATEGORIES:KulturAgentin,Kulturverein Röbel,Mühle Röbel
ATTACH;FMTTYPE=image/png:https://kulturinroebel.de/wp-content/uploads/2026/02/Perspektivwechsel-2026-1.png
END:VEVENT
BEGIN:VEVENT
DTSTART;TZID=Europe/Berlin:20260630T110000
DTEND;TZID=Europe/Berlin:20260630T170000
DTSTAMP:20260423T195050
CREATED:20260207T132817Z
LAST-MODIFIED:20260419T215751Z
UID:10005416-1782817200-1782838800@kulturinroebel.de
SUMMARY:Perspektivwechsel
DESCRIPTION:Schwarzweiß Fotografie entstanden im Januar 2026 im Kurs der Leica Akademie Deutschland: Mecklenburgische Kulturlandschaft\n—\nab 2. Juni Mühlengeschten\n—\nWerner Schinko: Allerlei Viecherei\n—\nHans Blossey: Vogelschau Müritz \nAusstellung auf vier Etagen kuratiert von Lutz Kroh
URL:https://kulturinroebel.de/termin/perspektivwechsel/2026-06-30/
LOCATION:Mühle Röbel\, Mühlenberg 4\, Röbel / Müritz\, Mecklenburg-Vorpommern\, 17207\, Deutschland
CATEGORIES:KulturAgentin,Kulturverein Röbel,Mühle Röbel
ATTACH;FMTTYPE=image/png:https://kulturinroebel.de/wp-content/uploads/2026/02/Perspektivwechsel-2026-1.png
END:VEVENT
BEGIN:VEVENT
DTSTART;TZID=Europe/Berlin:20260701T110000
DTEND;TZID=Europe/Berlin:20260701T170000
DTSTAMP:20260423T195050
CREATED:20260207T132817Z
LAST-MODIFIED:20260419T215751Z
UID:10005417-1782903600-1782925200@kulturinroebel.de
SUMMARY:Perspektivwechsel
DESCRIPTION:Schwarzweiß Fotografie entstanden im Januar 2026 im Kurs der Leica Akademie Deutschland: Mecklenburgische Kulturlandschaft\n—\nab 2. Juni Mühlengeschten\n—\nWerner Schinko: Allerlei Viecherei\n—\nHans Blossey: Vogelschau Müritz \nAusstellung auf vier Etagen kuratiert von Lutz Kroh
URL:https://kulturinroebel.de/termin/perspektivwechsel/2026-07-01/
LOCATION:Mühle Röbel\, Mühlenberg 4\, Röbel / Müritz\, Mecklenburg-Vorpommern\, 17207\, Deutschland
CATEGORIES:KulturAgentin,Kulturverein Röbel,Mühle Röbel
ATTACH;FMTTYPE=image/png:https://kulturinroebel.de/wp-content/uploads/2026/02/Perspektivwechsel-2026-1.png
END:VEVENT
BEGIN:VEVENT
DTSTART;TZID=Europe/Berlin:20260702T110000
DTEND;TZID=Europe/Berlin:20260702T170000
DTSTAMP:20260423T195050
CREATED:20260207T132817Z
LAST-MODIFIED:20260419T215751Z
UID:10005418-1782990000-1783011600@kulturinroebel.de
SUMMARY:Perspektivwechsel
DESCRIPTION:Schwarzweiß Fotografie entstanden im Januar 2026 im Kurs der Leica Akademie Deutschland: Mecklenburgische Kulturlandschaft\n—\nab 2. Juni Mühlengeschten\n—\nWerner Schinko: Allerlei Viecherei\n—\nHans Blossey: Vogelschau Müritz \nAusstellung auf vier Etagen kuratiert von Lutz Kroh
URL:https://kulturinroebel.de/termin/perspektivwechsel/2026-07-02/
LOCATION:Mühle Röbel\, Mühlenberg 4\, Röbel / Müritz\, Mecklenburg-Vorpommern\, 17207\, Deutschland
CATEGORIES:KulturAgentin,Kulturverein Röbel,Mühle Röbel
ATTACH;FMTTYPE=image/png:https://kulturinroebel.de/wp-content/uploads/2026/02/Perspektivwechsel-2026-1.png
END:VEVENT
BEGIN:VEVENT
DTSTART;TZID=Europe/Berlin:20260703T110000
DTEND;TZID=Europe/Berlin:20260703T170000
DTSTAMP:20260423T195050
CREATED:20260207T132817Z
LAST-MODIFIED:20260419T215751Z
UID:10005419-1783076400-1783098000@kulturinroebel.de
SUMMARY:Perspektivwechsel
DESCRIPTION:Schwarzweiß Fotografie entstanden im Januar 2026 im Kurs der Leica Akademie Deutschland: Mecklenburgische Kulturlandschaft\n—\nab 2. Juni Mühlengeschten\n—\nWerner Schinko: Allerlei Viecherei\n—\nHans Blossey: Vogelschau Müritz \nAusstellung auf vier Etagen kuratiert von Lutz Kroh
URL:https://kulturinroebel.de/termin/perspektivwechsel/2026-07-03/
LOCATION:Mühle Röbel\, Mühlenberg 4\, Röbel / Müritz\, Mecklenburg-Vorpommern\, 17207\, Deutschland
CATEGORIES:KulturAgentin,Kulturverein Röbel,Mühle Röbel
ATTACH;FMTTYPE=image/png:https://kulturinroebel.de/wp-content/uploads/2026/02/Perspektivwechsel-2026-1.png
END:VEVENT
BEGIN:VEVENT
DTSTART;TZID=Europe/Berlin:20260704T110000
DTEND;TZID=Europe/Berlin:20260704T170000
DTSTAMP:20260423T195050
CREATED:20260207T132817Z
LAST-MODIFIED:20260419T215751Z
UID:10005420-1783162800-1783184400@kulturinroebel.de
SUMMARY:Perspektivwechsel
DESCRIPTION:Schwarzweiß Fotografie entstanden im Januar 2026 im Kurs der Leica Akademie Deutschland: Mecklenburgische Kulturlandschaft\n—\nab 2. Juni Mühlengeschten\n—\nWerner Schinko: Allerlei Viecherei\n—\nHans Blossey: Vogelschau Müritz \nAusstellung auf vier Etagen kuratiert von Lutz Kroh
URL:https://kulturinroebel.de/termin/perspektivwechsel/2026-07-04/
LOCATION:Mühle Röbel\, Mühlenberg 4\, Röbel / Müritz\, Mecklenburg-Vorpommern\, 17207\, Deutschland
CATEGORIES:KulturAgentin,Kulturverein Röbel,Mühle Röbel
ATTACH;FMTTYPE=image/png:https://kulturinroebel.de/wp-content/uploads/2026/02/Perspektivwechsel-2026-1.png
END:VEVENT
BEGIN:VEVENT
DTSTART;TZID=Europe/Berlin:20260705T110000
DTEND;TZID=Europe/Berlin:20260705T170000
DTSTAMP:20260423T195050
CREATED:20260207T132817Z
LAST-MODIFIED:20260419T215751Z
UID:10005421-1783249200-1783270800@kulturinroebel.de
SUMMARY:Perspektivwechsel
DESCRIPTION:Schwarzweiß Fotografie entstanden im Januar 2026 im Kurs der Leica Akademie Deutschland: Mecklenburgische Kulturlandschaft\n—\nab 2. Juni Mühlengeschten\n—\nWerner Schinko: Allerlei Viecherei\n—\nHans Blossey: Vogelschau Müritz \nAusstellung auf vier Etagen kuratiert von Lutz Kroh
URL:https://kulturinroebel.de/termin/perspektivwechsel/2026-07-05/
LOCATION:Mühle Röbel\, Mühlenberg 4\, Röbel / Müritz\, Mecklenburg-Vorpommern\, 17207\, Deutschland
CATEGORIES:KulturAgentin,Kulturverein Röbel,Mühle Röbel
ATTACH;FMTTYPE=image/png:https://kulturinroebel.de/wp-content/uploads/2026/02/Perspektivwechsel-2026-1.png
END:VEVENT
END:VCALENDAR