BEGIN:VCALENDAR
VERSION:2.0
PRODID:-//Kultur in Röbel - ECPv6.15.13//NONSGML v1.0//EN
CALSCALE:GREGORIAN
METHOD:PUBLISH
X-ORIGINAL-URL:https://kulturinroebel.de
X-WR-CALDESC:Veranstaltungen für Kultur in Röbel
REFRESH-INTERVAL;VALUE=DURATION:PT1H
X-Robots-Tag:noindex
X-PUBLISHED-TTL:PT1H
BEGIN:VTIMEZONE
TZID:Europe/Berlin
BEGIN:DAYLIGHT
TZOFFSETFROM:+0100
TZOFFSETTO:+0200
TZNAME:CEST
DTSTART:20250330T010000
END:DAYLIGHT
BEGIN:STANDARD
TZOFFSETFROM:+0200
TZOFFSETTO:+0100
TZNAME:CET
DTSTART:20251026T010000
END:STANDARD
BEGIN:DAYLIGHT
TZOFFSETFROM:+0100
TZOFFSETTO:+0200
TZNAME:CEST
DTSTART:20260329T010000
END:DAYLIGHT
BEGIN:STANDARD
TZOFFSETFROM:+0200
TZOFFSETTO:+0100
TZNAME:CET
DTSTART:20261025T010000
END:STANDARD
BEGIN:DAYLIGHT
TZOFFSETFROM:+0100
TZOFFSETTO:+0200
TZNAME:CEST
DTSTART:20270328T010000
END:DAYLIGHT
BEGIN:STANDARD
TZOFFSETFROM:+0200
TZOFFSETTO:+0100
TZNAME:CET
DTSTART:20271031T010000
END:STANDARD
END:VTIMEZONE
BEGIN:VEVENT
DTSTART;TZID=Europe/Berlin:20260801T110000
DTEND;TZID=Europe/Berlin:20260801T170000
DTSTAMP:20260423T193752
CREATED:20260207T132817Z
LAST-MODIFIED:20260419T215751Z
UID:10005448-1785582000-1785603600@kulturinroebel.de
SUMMARY:Perspektivwechsel
DESCRIPTION:Schwarzweiß Fotografie entstanden im Januar 2026 im Kurs der Leica Akademie Deutschland: Mecklenburgische Kulturlandschaft\n—\nab 2. Juni Mühlengeschten\n—\nWerner Schinko: Allerlei Viecherei\n—\nHans Blossey: Vogelschau Müritz \nAusstellung auf vier Etagen kuratiert von Lutz Kroh
URL:https://kulturinroebel.de/termin/perspektivwechsel/2026-08-01/
LOCATION:Mühle Röbel\, Mühlenberg 4\, Röbel / Müritz\, Mecklenburg-Vorpommern\, 17207\, Deutschland
CATEGORIES:KulturAgentin,Kulturverein Röbel,Mühle Röbel
ATTACH;FMTTYPE=image/png:https://kulturinroebel.de/wp-content/uploads/2026/02/Perspektivwechsel-2026-1.png
END:VEVENT
BEGIN:VEVENT
DTSTART;TZID=Europe/Berlin:20260802T110000
DTEND;TZID=Europe/Berlin:20260802T170000
DTSTAMP:20260423T193752
CREATED:20260207T132817Z
LAST-MODIFIED:20260419T215751Z
UID:10005449-1785668400-1785690000@kulturinroebel.de
SUMMARY:Perspektivwechsel
DESCRIPTION:Schwarzweiß Fotografie entstanden im Januar 2026 im Kurs der Leica Akademie Deutschland: Mecklenburgische Kulturlandschaft\n—\nab 2. Juni Mühlengeschten\n—\nWerner Schinko: Allerlei Viecherei\n—\nHans Blossey: Vogelschau Müritz \nAusstellung auf vier Etagen kuratiert von Lutz Kroh
URL:https://kulturinroebel.de/termin/perspektivwechsel/2026-08-02/
LOCATION:Mühle Röbel\, Mühlenberg 4\, Röbel / Müritz\, Mecklenburg-Vorpommern\, 17207\, Deutschland
CATEGORIES:KulturAgentin,Kulturverein Röbel,Mühle Röbel
ATTACH;FMTTYPE=image/png:https://kulturinroebel.de/wp-content/uploads/2026/02/Perspektivwechsel-2026-1.png
END:VEVENT
BEGIN:VEVENT
DTSTART;TZID=Europe/Berlin:20260803T110000
DTEND;TZID=Europe/Berlin:20260803T170000
DTSTAMP:20260423T193752
CREATED:20260207T132817Z
LAST-MODIFIED:20260419T215751Z
UID:10005450-1785754800-1785776400@kulturinroebel.de
SUMMARY:Perspektivwechsel
DESCRIPTION:Schwarzweiß Fotografie entstanden im Januar 2026 im Kurs der Leica Akademie Deutschland: Mecklenburgische Kulturlandschaft\n—\nab 2. Juni Mühlengeschten\n—\nWerner Schinko: Allerlei Viecherei\n—\nHans Blossey: Vogelschau Müritz \nAusstellung auf vier Etagen kuratiert von Lutz Kroh
URL:https://kulturinroebel.de/termin/perspektivwechsel/2026-08-03/
LOCATION:Mühle Röbel\, Mühlenberg 4\, Röbel / Müritz\, Mecklenburg-Vorpommern\, 17207\, Deutschland
CATEGORIES:KulturAgentin,Kulturverein Röbel,Mühle Röbel
ATTACH;FMTTYPE=image/png:https://kulturinroebel.de/wp-content/uploads/2026/02/Perspektivwechsel-2026-1.png
END:VEVENT
BEGIN:VEVENT
DTSTART;TZID=Europe/Berlin:20260804T110000
DTEND;TZID=Europe/Berlin:20260804T170000
DTSTAMP:20260423T193752
CREATED:20260207T132817Z
LAST-MODIFIED:20260419T215751Z
UID:10005451-1785841200-1785862800@kulturinroebel.de
SUMMARY:Perspektivwechsel
DESCRIPTION:Schwarzweiß Fotografie entstanden im Januar 2026 im Kurs der Leica Akademie Deutschland: Mecklenburgische Kulturlandschaft\n—\nab 2. Juni Mühlengeschten\n—\nWerner Schinko: Allerlei Viecherei\n—\nHans Blossey: Vogelschau Müritz \nAusstellung auf vier Etagen kuratiert von Lutz Kroh
URL:https://kulturinroebel.de/termin/perspektivwechsel/2026-08-04/
LOCATION:Mühle Röbel\, Mühlenberg 4\, Röbel / Müritz\, Mecklenburg-Vorpommern\, 17207\, Deutschland
CATEGORIES:KulturAgentin,Kulturverein Röbel,Mühle Röbel
ATTACH;FMTTYPE=image/png:https://kulturinroebel.de/wp-content/uploads/2026/02/Perspektivwechsel-2026-1.png
END:VEVENT
BEGIN:VEVENT
DTSTART;TZID=Europe/Berlin:20260805T110000
DTEND;TZID=Europe/Berlin:20260805T170000
DTSTAMP:20260423T193752
CREATED:20260207T132817Z
LAST-MODIFIED:20260419T215751Z
UID:10005452-1785927600-1785949200@kulturinroebel.de
SUMMARY:Perspektivwechsel
DESCRIPTION:Schwarzweiß Fotografie entstanden im Januar 2026 im Kurs der Leica Akademie Deutschland: Mecklenburgische Kulturlandschaft\n—\nab 2. Juni Mühlengeschten\n—\nWerner Schinko: Allerlei Viecherei\n—\nHans Blossey: Vogelschau Müritz \nAusstellung auf vier Etagen kuratiert von Lutz Kroh
URL:https://kulturinroebel.de/termin/perspektivwechsel/2026-08-05/
LOCATION:Mühle Röbel\, Mühlenberg 4\, Röbel / Müritz\, Mecklenburg-Vorpommern\, 17207\, Deutschland
CATEGORIES:KulturAgentin,Kulturverein Röbel,Mühle Röbel
ATTACH;FMTTYPE=image/png:https://kulturinroebel.de/wp-content/uploads/2026/02/Perspektivwechsel-2026-1.png
END:VEVENT
BEGIN:VEVENT
DTSTART;TZID=Europe/Berlin:20260806T110000
DTEND;TZID=Europe/Berlin:20260806T170000
DTSTAMP:20260423T193752
CREATED:20260207T132817Z
LAST-MODIFIED:20260419T215751Z
UID:10005453-1786014000-1786035600@kulturinroebel.de
SUMMARY:Perspektivwechsel
DESCRIPTION:Schwarzweiß Fotografie entstanden im Januar 2026 im Kurs der Leica Akademie Deutschland: Mecklenburgische Kulturlandschaft\n—\nab 2. Juni Mühlengeschten\n—\nWerner Schinko: Allerlei Viecherei\n—\nHans Blossey: Vogelschau Müritz \nAusstellung auf vier Etagen kuratiert von Lutz Kroh
URL:https://kulturinroebel.de/termin/perspektivwechsel/2026-08-06/
LOCATION:Mühle Röbel\, Mühlenberg 4\, Röbel / Müritz\, Mecklenburg-Vorpommern\, 17207\, Deutschland
CATEGORIES:KulturAgentin,Kulturverein Röbel,Mühle Röbel
ATTACH;FMTTYPE=image/png:https://kulturinroebel.de/wp-content/uploads/2026/02/Perspektivwechsel-2026-1.png
END:VEVENT
BEGIN:VEVENT
DTSTART;TZID=Europe/Berlin:20260807T110000
DTEND;TZID=Europe/Berlin:20260807T170000
DTSTAMP:20260423T193752
CREATED:20260207T132817Z
LAST-MODIFIED:20260419T215751Z
UID:10005454-1786100400-1786122000@kulturinroebel.de
SUMMARY:Perspektivwechsel
DESCRIPTION:Schwarzweiß Fotografie entstanden im Januar 2026 im Kurs der Leica Akademie Deutschland: Mecklenburgische Kulturlandschaft\n—\nab 2. Juni Mühlengeschten\n—\nWerner Schinko: Allerlei Viecherei\n—\nHans Blossey: Vogelschau Müritz \nAusstellung auf vier Etagen kuratiert von Lutz Kroh
URL:https://kulturinroebel.de/termin/perspektivwechsel/2026-08-07/
LOCATION:Mühle Röbel\, Mühlenberg 4\, Röbel / Müritz\, Mecklenburg-Vorpommern\, 17207\, Deutschland
CATEGORIES:KulturAgentin,Kulturverein Röbel,Mühle Röbel
ATTACH;FMTTYPE=image/png:https://kulturinroebel.de/wp-content/uploads/2026/02/Perspektivwechsel-2026-1.png
END:VEVENT
BEGIN:VEVENT
DTSTART;TZID=Europe/Berlin:20260808T110000
DTEND;TZID=Europe/Berlin:20260808T170000
DTSTAMP:20260423T193752
CREATED:20260207T132817Z
LAST-MODIFIED:20260419T215751Z
UID:10005455-1786186800-1786208400@kulturinroebel.de
SUMMARY:Perspektivwechsel
DESCRIPTION:Schwarzweiß Fotografie entstanden im Januar 2026 im Kurs der Leica Akademie Deutschland: Mecklenburgische Kulturlandschaft\n—\nab 2. Juni Mühlengeschten\n—\nWerner Schinko: Allerlei Viecherei\n—\nHans Blossey: Vogelschau Müritz \nAusstellung auf vier Etagen kuratiert von Lutz Kroh
URL:https://kulturinroebel.de/termin/perspektivwechsel/2026-08-08/
LOCATION:Mühle Röbel\, Mühlenberg 4\, Röbel / Müritz\, Mecklenburg-Vorpommern\, 17207\, Deutschland
CATEGORIES:KulturAgentin,Kulturverein Röbel,Mühle Röbel
ATTACH;FMTTYPE=image/png:https://kulturinroebel.de/wp-content/uploads/2026/02/Perspektivwechsel-2026-1.png
END:VEVENT
BEGIN:VEVENT
DTSTART;TZID=Europe/Berlin:20260809T110000
DTEND;TZID=Europe/Berlin:20260809T170000
DTSTAMP:20260423T193752
CREATED:20260207T132817Z
LAST-MODIFIED:20260419T215751Z
UID:10005456-1786273200-1786294800@kulturinroebel.de
SUMMARY:Perspektivwechsel
DESCRIPTION:Schwarzweiß Fotografie entstanden im Januar 2026 im Kurs der Leica Akademie Deutschland: Mecklenburgische Kulturlandschaft\n—\nab 2. Juni Mühlengeschten\n—\nWerner Schinko: Allerlei Viecherei\n—\nHans Blossey: Vogelschau Müritz \nAusstellung auf vier Etagen kuratiert von Lutz Kroh
URL:https://kulturinroebel.de/termin/perspektivwechsel/2026-08-09/
LOCATION:Mühle Röbel\, Mühlenberg 4\, Röbel / Müritz\, Mecklenburg-Vorpommern\, 17207\, Deutschland
CATEGORIES:KulturAgentin,Kulturverein Röbel,Mühle Röbel
ATTACH;FMTTYPE=image/png:https://kulturinroebel.de/wp-content/uploads/2026/02/Perspektivwechsel-2026-1.png
END:VEVENT
BEGIN:VEVENT
DTSTART;TZID=Europe/Berlin:20260810T110000
DTEND;TZID=Europe/Berlin:20260810T170000
DTSTAMP:20260423T193752
CREATED:20260207T132817Z
LAST-MODIFIED:20260419T215751Z
UID:10005457-1786359600-1786381200@kulturinroebel.de
SUMMARY:Perspektivwechsel
DESCRIPTION:Schwarzweiß Fotografie entstanden im Januar 2026 im Kurs der Leica Akademie Deutschland: Mecklenburgische Kulturlandschaft\n—\nab 2. Juni Mühlengeschten\n—\nWerner Schinko: Allerlei Viecherei\n—\nHans Blossey: Vogelschau Müritz \nAusstellung auf vier Etagen kuratiert von Lutz Kroh
URL:https://kulturinroebel.de/termin/perspektivwechsel/2026-08-10/
LOCATION:Mühle Röbel\, Mühlenberg 4\, Röbel / Müritz\, Mecklenburg-Vorpommern\, 17207\, Deutschland
CATEGORIES:KulturAgentin,Kulturverein Röbel,Mühle Röbel
ATTACH;FMTTYPE=image/png:https://kulturinroebel.de/wp-content/uploads/2026/02/Perspektivwechsel-2026-1.png
END:VEVENT
BEGIN:VEVENT
DTSTART;TZID=Europe/Berlin:20260811T110000
DTEND;TZID=Europe/Berlin:20260811T170000
DTSTAMP:20260423T193752
CREATED:20260207T132817Z
LAST-MODIFIED:20260419T215751Z
UID:10005458-1786446000-1786467600@kulturinroebel.de
SUMMARY:Perspektivwechsel
DESCRIPTION:Schwarzweiß Fotografie entstanden im Januar 2026 im Kurs der Leica Akademie Deutschland: Mecklenburgische Kulturlandschaft\n—\nab 2. Juni Mühlengeschten\n—\nWerner Schinko: Allerlei Viecherei\n—\nHans Blossey: Vogelschau Müritz \nAusstellung auf vier Etagen kuratiert von Lutz Kroh
URL:https://kulturinroebel.de/termin/perspektivwechsel/2026-08-11/
LOCATION:Mühle Röbel\, Mühlenberg 4\, Röbel / Müritz\, Mecklenburg-Vorpommern\, 17207\, Deutschland
CATEGORIES:KulturAgentin,Kulturverein Röbel,Mühle Röbel
ATTACH;FMTTYPE=image/png:https://kulturinroebel.de/wp-content/uploads/2026/02/Perspektivwechsel-2026-1.png
END:VEVENT
BEGIN:VEVENT
DTSTART;TZID=Europe/Berlin:20260812T110000
DTEND;TZID=Europe/Berlin:20260812T170000
DTSTAMP:20260423T193752
CREATED:20260207T132817Z
LAST-MODIFIED:20260419T215751Z
UID:10005459-1786532400-1786554000@kulturinroebel.de
SUMMARY:Perspektivwechsel
DESCRIPTION:Schwarzweiß Fotografie entstanden im Januar 2026 im Kurs der Leica Akademie Deutschland: Mecklenburgische Kulturlandschaft\n—\nab 2. Juni Mühlengeschten\n—\nWerner Schinko: Allerlei Viecherei\n—\nHans Blossey: Vogelschau Müritz \nAusstellung auf vier Etagen kuratiert von Lutz Kroh
URL:https://kulturinroebel.de/termin/perspektivwechsel/2026-08-12/
LOCATION:Mühle Röbel\, Mühlenberg 4\, Röbel / Müritz\, Mecklenburg-Vorpommern\, 17207\, Deutschland
CATEGORIES:KulturAgentin,Kulturverein Röbel,Mühle Röbel
ATTACH;FMTTYPE=image/png:https://kulturinroebel.de/wp-content/uploads/2026/02/Perspektivwechsel-2026-1.png
END:VEVENT
BEGIN:VEVENT
DTSTART;TZID=Europe/Berlin:20260813T110000
DTEND;TZID=Europe/Berlin:20260813T170000
DTSTAMP:20260423T193752
CREATED:20260207T132817Z
LAST-MODIFIED:20260419T215751Z
UID:10005460-1786618800-1786640400@kulturinroebel.de
SUMMARY:Perspektivwechsel
DESCRIPTION:Schwarzweiß Fotografie entstanden im Januar 2026 im Kurs der Leica Akademie Deutschland: Mecklenburgische Kulturlandschaft\n—\nab 2. Juni Mühlengeschten\n—\nWerner Schinko: Allerlei Viecherei\n—\nHans Blossey: Vogelschau Müritz \nAusstellung auf vier Etagen kuratiert von Lutz Kroh
URL:https://kulturinroebel.de/termin/perspektivwechsel/2026-08-13/
LOCATION:Mühle Röbel\, Mühlenberg 4\, Röbel / Müritz\, Mecklenburg-Vorpommern\, 17207\, Deutschland
CATEGORIES:KulturAgentin,Kulturverein Röbel,Mühle Röbel
ATTACH;FMTTYPE=image/png:https://kulturinroebel.de/wp-content/uploads/2026/02/Perspektivwechsel-2026-1.png
END:VEVENT
BEGIN:VEVENT
DTSTART;TZID=Europe/Berlin:20260814T110000
DTEND;TZID=Europe/Berlin:20260814T170000
DTSTAMP:20260423T193752
CREATED:20260207T132817Z
LAST-MODIFIED:20260419T215751Z
UID:10005461-1786705200-1786726800@kulturinroebel.de
SUMMARY:Perspektivwechsel
DESCRIPTION:Schwarzweiß Fotografie entstanden im Januar 2026 im Kurs der Leica Akademie Deutschland: Mecklenburgische Kulturlandschaft\n—\nab 2. Juni Mühlengeschten\n—\nWerner Schinko: Allerlei Viecherei\n—\nHans Blossey: Vogelschau Müritz \nAusstellung auf vier Etagen kuratiert von Lutz Kroh
URL:https://kulturinroebel.de/termin/perspektivwechsel/2026-08-14/
LOCATION:Mühle Röbel\, Mühlenberg 4\, Röbel / Müritz\, Mecklenburg-Vorpommern\, 17207\, Deutschland
CATEGORIES:KulturAgentin,Kulturverein Röbel,Mühle Röbel
ATTACH;FMTTYPE=image/png:https://kulturinroebel.de/wp-content/uploads/2026/02/Perspektivwechsel-2026-1.png
END:VEVENT
BEGIN:VEVENT
DTSTART;TZID=Europe/Berlin:20260815T110000
DTEND;TZID=Europe/Berlin:20260815T170000
DTSTAMP:20260423T193752
CREATED:20260207T132817Z
LAST-MODIFIED:20260419T215751Z
UID:10005462-1786791600-1786813200@kulturinroebel.de
SUMMARY:Perspektivwechsel
DESCRIPTION:Schwarzweiß Fotografie entstanden im Januar 2026 im Kurs der Leica Akademie Deutschland: Mecklenburgische Kulturlandschaft\n—\nab 2. Juni Mühlengeschten\n—\nWerner Schinko: Allerlei Viecherei\n—\nHans Blossey: Vogelschau Müritz \nAusstellung auf vier Etagen kuratiert von Lutz Kroh
URL:https://kulturinroebel.de/termin/perspektivwechsel/2026-08-15/
LOCATION:Mühle Röbel\, Mühlenberg 4\, Röbel / Müritz\, Mecklenburg-Vorpommern\, 17207\, Deutschland
CATEGORIES:KulturAgentin,Kulturverein Röbel,Mühle Röbel
ATTACH;FMTTYPE=image/png:https://kulturinroebel.de/wp-content/uploads/2026/02/Perspektivwechsel-2026-1.png
END:VEVENT
BEGIN:VEVENT
DTSTART;TZID=Europe/Berlin:20260816T110000
DTEND;TZID=Europe/Berlin:20260816T170000
DTSTAMP:20260423T193752
CREATED:20260207T132817Z
LAST-MODIFIED:20260419T215751Z
UID:10005463-1786878000-1786899600@kulturinroebel.de
SUMMARY:Perspektivwechsel
DESCRIPTION:Schwarzweiß Fotografie entstanden im Januar 2026 im Kurs der Leica Akademie Deutschland: Mecklenburgische Kulturlandschaft\n—\nab 2. Juni Mühlengeschten\n—\nWerner Schinko: Allerlei Viecherei\n—\nHans Blossey: Vogelschau Müritz \nAusstellung auf vier Etagen kuratiert von Lutz Kroh
URL:https://kulturinroebel.de/termin/perspektivwechsel/2026-08-16/
LOCATION:Mühle Röbel\, Mühlenberg 4\, Röbel / Müritz\, Mecklenburg-Vorpommern\, 17207\, Deutschland
CATEGORIES:KulturAgentin,Kulturverein Röbel,Mühle Röbel
ATTACH;FMTTYPE=image/png:https://kulturinroebel.de/wp-content/uploads/2026/02/Perspektivwechsel-2026-1.png
END:VEVENT
BEGIN:VEVENT
DTSTART;TZID=Europe/Berlin:20260817T110000
DTEND;TZID=Europe/Berlin:20260817T170000
DTSTAMP:20260423T193752
CREATED:20260207T132817Z
LAST-MODIFIED:20260419T215751Z
UID:10005464-1786964400-1786986000@kulturinroebel.de
SUMMARY:Perspektivwechsel
DESCRIPTION:Schwarzweiß Fotografie entstanden im Januar 2026 im Kurs der Leica Akademie Deutschland: Mecklenburgische Kulturlandschaft\n—\nab 2. Juni Mühlengeschten\n—\nWerner Schinko: Allerlei Viecherei\n—\nHans Blossey: Vogelschau Müritz \nAusstellung auf vier Etagen kuratiert von Lutz Kroh
URL:https://kulturinroebel.de/termin/perspektivwechsel/2026-08-17/
LOCATION:Mühle Röbel\, Mühlenberg 4\, Röbel / Müritz\, Mecklenburg-Vorpommern\, 17207\, Deutschland
CATEGORIES:KulturAgentin,Kulturverein Röbel,Mühle Röbel
ATTACH;FMTTYPE=image/png:https://kulturinroebel.de/wp-content/uploads/2026/02/Perspektivwechsel-2026-1.png
END:VEVENT
BEGIN:VEVENT
DTSTART;TZID=Europe/Berlin:20260818T110000
DTEND;TZID=Europe/Berlin:20260818T170000
DTSTAMP:20260423T193752
CREATED:20260207T132817Z
LAST-MODIFIED:20260419T215751Z
UID:10005465-1787050800-1787072400@kulturinroebel.de
SUMMARY:Perspektivwechsel
DESCRIPTION:Schwarzweiß Fotografie entstanden im Januar 2026 im Kurs der Leica Akademie Deutschland: Mecklenburgische Kulturlandschaft\n—\nab 2. Juni Mühlengeschten\n—\nWerner Schinko: Allerlei Viecherei\n—\nHans Blossey: Vogelschau Müritz \nAusstellung auf vier Etagen kuratiert von Lutz Kroh
URL:https://kulturinroebel.de/termin/perspektivwechsel/2026-08-18/
LOCATION:Mühle Röbel\, Mühlenberg 4\, Röbel / Müritz\, Mecklenburg-Vorpommern\, 17207\, Deutschland
CATEGORIES:KulturAgentin,Kulturverein Röbel,Mühle Röbel
ATTACH;FMTTYPE=image/png:https://kulturinroebel.de/wp-content/uploads/2026/02/Perspektivwechsel-2026-1.png
END:VEVENT
BEGIN:VEVENT
DTSTART;TZID=Europe/Berlin:20260819T110000
DTEND;TZID=Europe/Berlin:20260819T170000
DTSTAMP:20260423T193752
CREATED:20260207T132817Z
LAST-MODIFIED:20260419T215751Z
UID:10005466-1787137200-1787158800@kulturinroebel.de
SUMMARY:Perspektivwechsel
DESCRIPTION:Schwarzweiß Fotografie entstanden im Januar 2026 im Kurs der Leica Akademie Deutschland: Mecklenburgische Kulturlandschaft\n—\nab 2. Juni Mühlengeschten\n—\nWerner Schinko: Allerlei Viecherei\n—\nHans Blossey: Vogelschau Müritz \nAusstellung auf vier Etagen kuratiert von Lutz Kroh
URL:https://kulturinroebel.de/termin/perspektivwechsel/2026-08-19/
LOCATION:Mühle Röbel\, Mühlenberg 4\, Röbel / Müritz\, Mecklenburg-Vorpommern\, 17207\, Deutschland
CATEGORIES:KulturAgentin,Kulturverein Röbel,Mühle Röbel
ATTACH;FMTTYPE=image/png:https://kulturinroebel.de/wp-content/uploads/2026/02/Perspektivwechsel-2026-1.png
END:VEVENT
BEGIN:VEVENT
DTSTART;TZID=Europe/Berlin:20260820T110000
DTEND;TZID=Europe/Berlin:20260820T170000
DTSTAMP:20260423T193752
CREATED:20260207T132817Z
LAST-MODIFIED:20260419T215751Z
UID:10005467-1787223600-1787245200@kulturinroebel.de
SUMMARY:Perspektivwechsel
DESCRIPTION:Schwarzweiß Fotografie entstanden im Januar 2026 im Kurs der Leica Akademie Deutschland: Mecklenburgische Kulturlandschaft\n—\nab 2. Juni Mühlengeschten\n—\nWerner Schinko: Allerlei Viecherei\n—\nHans Blossey: Vogelschau Müritz \nAusstellung auf vier Etagen kuratiert von Lutz Kroh
URL:https://kulturinroebel.de/termin/perspektivwechsel/2026-08-20/
LOCATION:Mühle Röbel\, Mühlenberg 4\, Röbel / Müritz\, Mecklenburg-Vorpommern\, 17207\, Deutschland
CATEGORIES:KulturAgentin,Kulturverein Röbel,Mühle Röbel
ATTACH;FMTTYPE=image/png:https://kulturinroebel.de/wp-content/uploads/2026/02/Perspektivwechsel-2026-1.png
END:VEVENT
BEGIN:VEVENT
DTSTART;TZID=Europe/Berlin:20260821T110000
DTEND;TZID=Europe/Berlin:20260821T170000
DTSTAMP:20260423T193752
CREATED:20260207T132817Z
LAST-MODIFIED:20260419T215751Z
UID:10005468-1787310000-1787331600@kulturinroebel.de
SUMMARY:Perspektivwechsel
DESCRIPTION:Schwarzweiß Fotografie entstanden im Januar 2026 im Kurs der Leica Akademie Deutschland: Mecklenburgische Kulturlandschaft\n—\nab 2. Juni Mühlengeschten\n—\nWerner Schinko: Allerlei Viecherei\n—\nHans Blossey: Vogelschau Müritz \nAusstellung auf vier Etagen kuratiert von Lutz Kroh
URL:https://kulturinroebel.de/termin/perspektivwechsel/2026-08-21/
LOCATION:Mühle Röbel\, Mühlenberg 4\, Röbel / Müritz\, Mecklenburg-Vorpommern\, 17207\, Deutschland
CATEGORIES:KulturAgentin,Kulturverein Röbel,Mühle Röbel
ATTACH;FMTTYPE=image/png:https://kulturinroebel.de/wp-content/uploads/2026/02/Perspektivwechsel-2026-1.png
END:VEVENT
BEGIN:VEVENT
DTSTART;TZID=Europe/Berlin:20260822T110000
DTEND;TZID=Europe/Berlin:20260822T170000
DTSTAMP:20260423T193752
CREATED:20260207T132817Z
LAST-MODIFIED:20260419T215751Z
UID:10005469-1787396400-1787418000@kulturinroebel.de
SUMMARY:Perspektivwechsel
DESCRIPTION:Schwarzweiß Fotografie entstanden im Januar 2026 im Kurs der Leica Akademie Deutschland: Mecklenburgische Kulturlandschaft\n—\nab 2. Juni Mühlengeschten\n—\nWerner Schinko: Allerlei Viecherei\n—\nHans Blossey: Vogelschau Müritz \nAusstellung auf vier Etagen kuratiert von Lutz Kroh
URL:https://kulturinroebel.de/termin/perspektivwechsel/2026-08-22/
LOCATION:Mühle Röbel\, Mühlenberg 4\, Röbel / Müritz\, Mecklenburg-Vorpommern\, 17207\, Deutschland
CATEGORIES:KulturAgentin,Kulturverein Röbel,Mühle Röbel
ATTACH;FMTTYPE=image/png:https://kulturinroebel.de/wp-content/uploads/2026/02/Perspektivwechsel-2026-1.png
END:VEVENT
BEGIN:VEVENT
DTSTART;TZID=Europe/Berlin:20260823T110000
DTEND;TZID=Europe/Berlin:20260823T170000
DTSTAMP:20260423T193752
CREATED:20260207T132817Z
LAST-MODIFIED:20260419T215751Z
UID:10005470-1787482800-1787504400@kulturinroebel.de
SUMMARY:Perspektivwechsel
DESCRIPTION:Schwarzweiß Fotografie entstanden im Januar 2026 im Kurs der Leica Akademie Deutschland: Mecklenburgische Kulturlandschaft\n—\nab 2. Juni Mühlengeschten\n—\nWerner Schinko: Allerlei Viecherei\n—\nHans Blossey: Vogelschau Müritz \nAusstellung auf vier Etagen kuratiert von Lutz Kroh
URL:https://kulturinroebel.de/termin/perspektivwechsel/2026-08-23/
LOCATION:Mühle Röbel\, Mühlenberg 4\, Röbel / Müritz\, Mecklenburg-Vorpommern\, 17207\, Deutschland
CATEGORIES:KulturAgentin,Kulturverein Röbel,Mühle Röbel
ATTACH;FMTTYPE=image/png:https://kulturinroebel.de/wp-content/uploads/2026/02/Perspektivwechsel-2026-1.png
END:VEVENT
BEGIN:VEVENT
DTSTART;TZID=Europe/Berlin:20260824T110000
DTEND;TZID=Europe/Berlin:20260824T170000
DTSTAMP:20260423T193752
CREATED:20260207T132817Z
LAST-MODIFIED:20260419T215751Z
UID:10005471-1787569200-1787590800@kulturinroebel.de
SUMMARY:Perspektivwechsel
DESCRIPTION:Schwarzweiß Fotografie entstanden im Januar 2026 im Kurs der Leica Akademie Deutschland: Mecklenburgische Kulturlandschaft\n—\nab 2. Juni Mühlengeschten\n—\nWerner Schinko: Allerlei Viecherei\n—\nHans Blossey: Vogelschau Müritz \nAusstellung auf vier Etagen kuratiert von Lutz Kroh
URL:https://kulturinroebel.de/termin/perspektivwechsel/2026-08-24/
LOCATION:Mühle Röbel\, Mühlenberg 4\, Röbel / Müritz\, Mecklenburg-Vorpommern\, 17207\, Deutschland
CATEGORIES:KulturAgentin,Kulturverein Röbel,Mühle Röbel
ATTACH;FMTTYPE=image/png:https://kulturinroebel.de/wp-content/uploads/2026/02/Perspektivwechsel-2026-1.png
END:VEVENT
BEGIN:VEVENT
DTSTART;TZID=Europe/Berlin:20260825T110000
DTEND;TZID=Europe/Berlin:20260825T170000
DTSTAMP:20260423T193752
CREATED:20260207T132817Z
LAST-MODIFIED:20260419T215751Z
UID:10005472-1787655600-1787677200@kulturinroebel.de
SUMMARY:Perspektivwechsel
DESCRIPTION:Schwarzweiß Fotografie entstanden im Januar 2026 im Kurs der Leica Akademie Deutschland: Mecklenburgische Kulturlandschaft\n—\nab 2. Juni Mühlengeschten\n—\nWerner Schinko: Allerlei Viecherei\n—\nHans Blossey: Vogelschau Müritz \nAusstellung auf vier Etagen kuratiert von Lutz Kroh
URL:https://kulturinroebel.de/termin/perspektivwechsel/2026-08-25/
LOCATION:Mühle Röbel\, Mühlenberg 4\, Röbel / Müritz\, Mecklenburg-Vorpommern\, 17207\, Deutschland
CATEGORIES:KulturAgentin,Kulturverein Röbel,Mühle Röbel
ATTACH;FMTTYPE=image/png:https://kulturinroebel.de/wp-content/uploads/2026/02/Perspektivwechsel-2026-1.png
END:VEVENT
BEGIN:VEVENT
DTSTART;TZID=Europe/Berlin:20260826T110000
DTEND;TZID=Europe/Berlin:20260826T170000
DTSTAMP:20260423T193752
CREATED:20260207T132817Z
LAST-MODIFIED:20260419T215751Z
UID:10005473-1787742000-1787763600@kulturinroebel.de
SUMMARY:Perspektivwechsel
DESCRIPTION:Schwarzweiß Fotografie entstanden im Januar 2026 im Kurs der Leica Akademie Deutschland: Mecklenburgische Kulturlandschaft\n—\nab 2. Juni Mühlengeschten\n—\nWerner Schinko: Allerlei Viecherei\n—\nHans Blossey: Vogelschau Müritz \nAusstellung auf vier Etagen kuratiert von Lutz Kroh
URL:https://kulturinroebel.de/termin/perspektivwechsel/2026-08-26/
LOCATION:Mühle Röbel\, Mühlenberg 4\, Röbel / Müritz\, Mecklenburg-Vorpommern\, 17207\, Deutschland
CATEGORIES:KulturAgentin,Kulturverein Röbel,Mühle Röbel
ATTACH;FMTTYPE=image/png:https://kulturinroebel.de/wp-content/uploads/2026/02/Perspektivwechsel-2026-1.png
END:VEVENT
BEGIN:VEVENT
DTSTART;TZID=Europe/Berlin:20260827T110000
DTEND;TZID=Europe/Berlin:20260827T170000
DTSTAMP:20260423T193752
CREATED:20260207T132817Z
LAST-MODIFIED:20260419T215751Z
UID:10005474-1787828400-1787850000@kulturinroebel.de
SUMMARY:Perspektivwechsel
DESCRIPTION:Schwarzweiß Fotografie entstanden im Januar 2026 im Kurs der Leica Akademie Deutschland: Mecklenburgische Kulturlandschaft\n—\nab 2. Juni Mühlengeschten\n—\nWerner Schinko: Allerlei Viecherei\n—\nHans Blossey: Vogelschau Müritz \nAusstellung auf vier Etagen kuratiert von Lutz Kroh
URL:https://kulturinroebel.de/termin/perspektivwechsel/2026-08-27/
LOCATION:Mühle Röbel\, Mühlenberg 4\, Röbel / Müritz\, Mecklenburg-Vorpommern\, 17207\, Deutschland
CATEGORIES:KulturAgentin,Kulturverein Röbel,Mühle Röbel
ATTACH;FMTTYPE=image/png:https://kulturinroebel.de/wp-content/uploads/2026/02/Perspektivwechsel-2026-1.png
END:VEVENT
BEGIN:VEVENT
DTSTART;TZID=Europe/Berlin:20260828T110000
DTEND;TZID=Europe/Berlin:20260828T170000
DTSTAMP:20260423T193752
CREATED:20260207T132817Z
LAST-MODIFIED:20260419T215751Z
UID:10005475-1787914800-1787936400@kulturinroebel.de
SUMMARY:Perspektivwechsel
DESCRIPTION:Schwarzweiß Fotografie entstanden im Januar 2026 im Kurs der Leica Akademie Deutschland: Mecklenburgische Kulturlandschaft\n—\nab 2. Juni Mühlengeschten\n—\nWerner Schinko: Allerlei Viecherei\n—\nHans Blossey: Vogelschau Müritz \nAusstellung auf vier Etagen kuratiert von Lutz Kroh
URL:https://kulturinroebel.de/termin/perspektivwechsel/2026-08-28/
LOCATION:Mühle Röbel\, Mühlenberg 4\, Röbel / Müritz\, Mecklenburg-Vorpommern\, 17207\, Deutschland
CATEGORIES:KulturAgentin,Kulturverein Röbel,Mühle Röbel
ATTACH;FMTTYPE=image/png:https://kulturinroebel.de/wp-content/uploads/2026/02/Perspektivwechsel-2026-1.png
END:VEVENT
BEGIN:VEVENT
DTSTART;TZID=Europe/Berlin:20260829T110000
DTEND;TZID=Europe/Berlin:20260829T170000
DTSTAMP:20260423T193752
CREATED:20260207T132817Z
LAST-MODIFIED:20260419T215751Z
UID:10005476-1788001200-1788022800@kulturinroebel.de
SUMMARY:Perspektivwechsel
DESCRIPTION:Schwarzweiß Fotografie entstanden im Januar 2026 im Kurs der Leica Akademie Deutschland: Mecklenburgische Kulturlandschaft\n—\nab 2. Juni Mühlengeschten\n—\nWerner Schinko: Allerlei Viecherei\n—\nHans Blossey: Vogelschau Müritz \nAusstellung auf vier Etagen kuratiert von Lutz Kroh
URL:https://kulturinroebel.de/termin/perspektivwechsel/2026-08-29/
LOCATION:Mühle Röbel\, Mühlenberg 4\, Röbel / Müritz\, Mecklenburg-Vorpommern\, 17207\, Deutschland
CATEGORIES:KulturAgentin,Kulturverein Röbel,Mühle Röbel
ATTACH;FMTTYPE=image/png:https://kulturinroebel.de/wp-content/uploads/2026/02/Perspektivwechsel-2026-1.png
END:VEVENT
BEGIN:VEVENT
DTSTART;TZID=Europe/Berlin:20260830T110000
DTEND;TZID=Europe/Berlin:20260830T170000
DTSTAMP:20260423T193752
CREATED:20260207T132817Z
LAST-MODIFIED:20260419T215751Z
UID:10005477-1788087600-1788109200@kulturinroebel.de
SUMMARY:Perspektivwechsel
DESCRIPTION:Schwarzweiß Fotografie entstanden im Januar 2026 im Kurs der Leica Akademie Deutschland: Mecklenburgische Kulturlandschaft\n—\nab 2. Juni Mühlengeschten\n—\nWerner Schinko: Allerlei Viecherei\n—\nHans Blossey: Vogelschau Müritz \nAusstellung auf vier Etagen kuratiert von Lutz Kroh
URL:https://kulturinroebel.de/termin/perspektivwechsel/2026-08-30/
LOCATION:Mühle Röbel\, Mühlenberg 4\, Röbel / Müritz\, Mecklenburg-Vorpommern\, 17207\, Deutschland
CATEGORIES:KulturAgentin,Kulturverein Röbel,Mühle Röbel
ATTACH;FMTTYPE=image/png:https://kulturinroebel.de/wp-content/uploads/2026/02/Perspektivwechsel-2026-1.png
END:VEVENT
END:VCALENDAR