BEGIN:VCALENDAR
VERSION:2.0
PRODID:-//Kultur in Röbel - ECPv6.15.13//NONSGML v1.0//EN
CALSCALE:GREGORIAN
METHOD:PUBLISH
X-ORIGINAL-URL:https://kulturinroebel.de
X-WR-CALDESC:Veranstaltungen für Kultur in Röbel
REFRESH-INTERVAL;VALUE=DURATION:PT1H
X-Robots-Tag:noindex
X-PUBLISHED-TTL:PT1H
BEGIN:VTIMEZONE
TZID:Europe/Berlin
BEGIN:DAYLIGHT
TZOFFSETFROM:+0100
TZOFFSETTO:+0200
TZNAME:CEST
DTSTART:20250330T010000
END:DAYLIGHT
BEGIN:STANDARD
TZOFFSETFROM:+0200
TZOFFSETTO:+0100
TZNAME:CET
DTSTART:20251026T010000
END:STANDARD
BEGIN:DAYLIGHT
TZOFFSETFROM:+0100
TZOFFSETTO:+0200
TZNAME:CEST
DTSTART:20260329T010000
END:DAYLIGHT
BEGIN:STANDARD
TZOFFSETFROM:+0200
TZOFFSETTO:+0100
TZNAME:CET
DTSTART:20261025T010000
END:STANDARD
BEGIN:DAYLIGHT
TZOFFSETFROM:+0100
TZOFFSETTO:+0200
TZNAME:CEST
DTSTART:20270328T010000
END:DAYLIGHT
BEGIN:STANDARD
TZOFFSETFROM:+0200
TZOFFSETTO:+0100
TZNAME:CET
DTSTART:20271031T010000
END:STANDARD
END:VTIMEZONE
BEGIN:VEVENT
DTSTART;TZID=Europe/Berlin:20260226T180000
DTEND;TZID=Europe/Berlin:20260226T190000
DTSTAMP:20260423T055807
CREATED:20260206T061551Z
LAST-MODIFIED:20260206T063605Z
UID:10005008-1772128800-1772132400@kulturinroebel.de
SUMMARY:Ein Zuhause finden...
DESCRIPTION:Die Berliner Fotografin Barbara Wolff präsentierte im Sommer 2025 in „Röbel erzählt…“ ihren Blick auf unsere kleine Stadt Röbel.\nIn der galerie radius berichtet sie\, warum „Weggehen“ ein Zuhause finden sein kann. Barbara Wolff im Gespräch mit Sibylle Stöcker.
URL:https://kulturinroebel.de/termin/ein-zuhause-finden/
LOCATION:radius kultur – galerie\, Straße des Friedens 26\, Röbel / Müritz\, Mecklenburg-Vorpommern\, 17207
CATEGORIES:KulturAgentin,Kulturverein Röbel,radius kultur
ATTACH;FMTTYPE=image/png:https://kulturinroebel.de/wp-content/uploads/2026/02/Screenshot-2026-02-06-071008.png
END:VEVENT
END:VCALENDAR